BEGIN:VCALENDAR
VERSION:2.0
PRODID:-//VALID - ECPv6.5.1.4//NONSGML v1.0//EN
CALSCALE:GREGORIAN
METHOD:PUBLISH
X-WR-CALNAME:VALID
X-ORIGINAL-URL:https://valid.org.au
X-WR-CALDESC:Events for VALID
REFRESH-INTERVAL;VALUE=DURATION:PT1H
X-Robots-Tag:noindex
X-PUBLISHED-TTL:PT1H
BEGIN:VTIMEZONE
TZID:Australia/Melbourne
BEGIN:STANDARD
TZOFFSETFROM:+1100
TZOFFSETTO:+1000
TZNAME:AEST
DTSTART:20210403T160000
END:STANDARD
BEGIN:DAYLIGHT
TZOFFSETFROM:+1000
TZOFFSETTO:+1100
TZNAME:AEDT
DTSTART:20211002T160000
END:DAYLIGHT
END:VTIMEZONE
BEGIN:VEVENT
DTSTART;TZID=Australia/Melbourne:20210907T135000
DTEND;TZID=Australia/Melbourne:20210907T143000
DTSTAMP:20260426T131520
CREATED:20210901T002304Z
LAST-MODIFIED:20210901T002304Z
UID:6509-1631022600-1631025000@valid.org.au
SUMMARY:Invitation for the service of Mrs Dorothy Leigh at Tuckers Grovedale Funeral chapel
DESCRIPTION:Friends of VALID\, you are invited to attend the funeral of Dot Leigh on Tuesday 7 September at 1:50pm. You can attend the funeral online. \n\n\n \n\n\nTo attend the funeral: \n\n\n \n\n\nLogin at https://www.oneroomstreaming.com/login\n\n\nUsername: aobrien@opp.vic.gov.au\n\n\nPassword: 9ZS2PK\n\n\n\n\nDot was a strong\, passionate advocate for over 40 years. She was a critical leader in VALID’s work defending the rights of people with in intellectual disability over 25 years. \n\n\n \n\n\nDot made a powerful speech about her advocacy work at VALID’s Annual General Meeting in 2019 when she finished as Committee President. You can read the speech below:\n\n\n\n\n\n“Life is what happens when we are busy making other plans”.   \nI was catapulted into the disability world 44 years ago when my son Greg was diagnosed at birth with Down Syndrome.  The first few weeks are a bit of a blur but I do remember a friend asking if I was going to bring him home\, this was never considered as an option. \nI also remember being referred to St Nicholas Hospital to have him registered.  We came up against our first brick wall when our application for what was then the handicapped child allowance was knocked back. \nTo appeal we were required to have Greg assessed by two independent doctors at the Children’s Hospital.  Our appeal was successful but little did I know appeals\, submissions\, political activism etc. would become part of our daily lives.  Fundraising\, committee’s\, workshops etc. would also become a lifetime commitment along with learning how to decipher acronyms\, GSP’s\, ISP’s\, ATTS’s etc. \nBecause I was so unprepared and had little or no knowledge of Down Syndrome I had a lot to learn about the best way to cope and what to expect.  The urge to meet other parents was really strong\, and as we were living in Heidelberg at the time we joined Kalparrin\, which was then a playgroup for children from 0-6 years.  Sharing the experience and knowledge of other parents was a real comfort and my first taste of parents supporting parents which I still value to this day. \nWe moved to Kinglake in early 1979 and Rosie\, who has Down Syndrome\, joined our  family in May 1979.  She spent the first 3 months of her life in St Joseph’s Home in Ballarat.  Much to my horror I’d become aware that babies with disabilities were being made “Wards of the State” (often on doctor’s advice) even as late as the 1970’s. \nBoth Greg and Rosie attended the local kindergarten with me in tow.  Greg started school at the Whittlesea Day Training Centre (later Merriang SDS)\, which seemed the most appropriate setting for him at the time.  Rosie attended the local primary school for 3 1/2 years.  The first two years were really positive with a great teacher\, full time aide\, a top notch Principal and an accepting school community.  Staff changes and a reduction in aide time led to Rosie being unhappy\, me being stressed and anxious and eventually to the breakdown of the program. \nI was asked to keep Rosie home at times when the aide wasn’t there\, which I wasn’t prepared to do.  One parent said “if Rosie comes to school tomorrow I am keeping my children home” and a teacher said to me “wouldn’t she be better with her own kind”.  Despite how the school attitude had changed\, people were somewhat surprised when I decided to look for other education options for Rosie. \n“What can you expect from parents of children like these!” stated a Special School Principal.  Parents are often judged as being non accepting\, over protective\, over demanding\, too emotional\, or too ambitious.  Fortunately attitudes are changing and parents are being recognised as life long carers\, with much more to offer than just raising funds.  It was during the 1950’s & 60’s that concerned parents banded together to establish services when there was nothing available for their children. \nI was among the parents invited to be part of the VALID Monitoring Scheme which was state funded\, to play a positive role in ensuring group homes were real homes.  From there I moved on to attend VALID state-wide Network Meetings providing a forum to share information and gather feedback on systemic issues affecting adults with intellectual disability\, their families and advocates. \nThis agenda ticked all the boxes for me and I am still here 29 years later. \nI’ve seen many policy and attitude changes over the years.  VALID has been a major player and a positive influence in many areas: \n\nPutting intellectual disability on the agenda and raising community awareness\nRecognizing the significant role of parents\nPromoting the growth of self advocacy\nSupporting or rather demanding the closure of institutions\nEngaging constructively with allies e.g. seeking commitment from parties at election time\nOrganising and promoting the annual Having a Say Conference and a number of expos\nProviding information and support for people navigating through the NDIS\n\nThe time has come for me to stand down from the VALID Committee.  I feel very proud and privileged to be part of such a forward thinking\, hands on organisation.  I have cherished my time working with intelligent\, courageous and resourceful people.  While I am suffering withdrawal symptoms I am confident that VALID will continue to build on what has already been achieved.  I will stay in touch and continue to be part of the Geelong Parent Network which is one of the VALID Peer Action Groups. \nThank you to the people who have placed their trust in me over many years.
URL:https://valid.org.au/event/invitation-for-the-service-of-mrs-dorothy-leigh-at-tuckers-grovedale-funeral-chapel/
LOCATION:Online
CATEGORIES:Special Event
ATTACH;FMTTYPE=image/jpeg:https://valid.org.au/wp-content/uploads/2021/09/Dot.jpg
END:VEVENT
BEGIN:VEVENT
DTSTART;TZID=Australia/Melbourne:20210929T103000
DTEND;TZID=Australia/Melbourne:20210929T113000
DTSTAMP:20260426T131520
CREATED:20210922T031602Z
LAST-MODIFIED:20210922T033114Z
UID:6690-1632911400-1632915000@valid.org.au
SUMMARY:COVID-19 Vaccine Information Sessions
DESCRIPTION:VALID is hosting two Information sessions about the COVID-19 Vaccine.These sessions will be presented by COVID Vaccine Champions (one will be a doctor) from the Department of Health who will tell us about the latest news on the roll out of the COVID-19 Vaccine program. \nThere will be lots of time to ask your questions. Join us at one of these FREE Online Events. \nSession 1. For people with disability \nWhen:    Wednesday 29th September 2021 \nTime:      10.30am – 11.30am \nWhere:   On Zoom \nFor more information: jon@valid.org.au \nYou need to register for this meeting. Click on the link below: \nhttps://us02web.zoom.us/meeting/register/tZMudOGppj8pE9O0XB_YU3PTHCcy4f_tVaNp \nYou will get an email with information about how to join the meeting. \nSession 2. For families  \nWhen:    Thursday 30th September 2021 \nTime:      10.30am – 11.30am \nWhere:  On Zoom \nFor more information: christine@valid.org.au \nYou need to register for this meeting. Click on the link below: \nhttps://us02web.zoom.us/meeting/register/tZAkcemgrDMsG9IkKcMnDJRkli9J9JZm4e3W \nYou will get an email with information about how to join the meeting.
URL:https://valid.org.au/event/covid-19-vaccine-information-sessions/2021-09-29/
LOCATION:Online
CATEGORIES:Special Event
ATTACH;FMTTYPE=image/jpeg:https://valid.org.au/wp-content/uploads/2021/09/Covid-info-flyer-e1632281448669.jpg
END:VEVENT
END:VCALENDAR