BEGIN:VCALENDAR
VERSION:2.0
PRODID:-//VALID - ECPv6.5.1.4//NONSGML v1.0//EN
CALSCALE:GREGORIAN
METHOD:PUBLISH
X-ORIGINAL-URL:https://valid.org.au
X-WR-CALDESC:Events for VALID
REFRESH-INTERVAL;VALUE=DURATION:PT1H
X-Robots-Tag:noindex
X-PUBLISHED-TTL:PT1H
BEGIN:VTIMEZONE
TZID:Australia/Melbourne
BEGIN:STANDARD
TZOFFSETFROM:+1100
TZOFFSETTO:+1000
TZNAME:AEST
DTSTART:20210403T160000
END:STANDARD
BEGIN:DAYLIGHT
TZOFFSETFROM:+1000
TZOFFSETTO:+1100
TZNAME:AEDT
DTSTART:20211002T160000
END:DAYLIGHT
END:VTIMEZONE
BEGIN:VEVENT
DTSTART;TZID=Australia/Melbourne:20210621T174500
DTEND;TZID=Australia/Melbourne:20210621T210000
DTSTAMP:20260426T031354
CREATED:20210506T042042Z
LAST-MODIFIED:20210506T042326Z
UID:5854-1624297500-1624309200@valid.org.au
SUMMARY:Online Families as Planning Partners NDIS Course
DESCRIPTION:Are you getting the best out of your NDIS funding?\nDo you know your rights – with services? with the NDIS? \nAre you prepared for your next Plan Review?\nThis is an online course by trainers who are parents with personal experience of the NDIS\, for families who want to build a ‘good life’ and future for their family member. Course fee (families – 4 sessions x $100) can be funded through your family member’s NDIS Plan.\nIn February – March 2021 we have both Day Courses (9.45am to 1pm) and Evening courses  (5.45pm to 9pm) ONLINE via ZOOM \nRegister by 22nd February 2021\nSession 1. How the NDIS processes work. New changes.\nSession 2. Getting effective Support from your NDIS package\nSession 3. Develop a plan for the future.\nSession 4. How to Manage the Plan supports and funding.\nFor assistance with payment\, NDIS claims or more information contact: Maree Hewitt T: 0409 965 264 E: maree@valid.org.au\n								Share on facebook\n										Facebook\n								Share on twitter\n										Twitter\n								Share on linkedin\n										LinkedIn
URL:https://valid.org.au/event/online-families-as-planning-partners-ndis-course-4/
LOCATION:Online
CATEGORIES:Training
ATTACH;FMTTYPE=image/jpeg:https://valid.org.au/wp-content/uploads/2021/02/FAM-2.jpg
END:VEVENT
BEGIN:VEVENT
DTSTART;TZID=Australia/Melbourne:20210623T100000
DTEND;TZID=Australia/Melbourne:20210623T120000
DTSTAMP:20260426T031354
CREATED:20210607T053621Z
LAST-MODIFIED:20210607T060718Z
UID:5996-1624442400-1624449600@valid.org.au
SUMMARY:Online Workshops for Families
DESCRIPTION:These workshops are 􀍚stand-alone􀍛 sessions. People are welcome to do one or more. more. They are presented in a user-friendly format ONLINE by parents with life experience of using the NDIS. \nFor more information or assistance to register contact: Donna Shaw Mob: 0402 757 987 Email: donna@valid.org.\nTo Register: Complete the form.  \n  \n 
URL:https://valid.org.au/event/member-online-workshops-for-families-to/
CATEGORIES:Training
ATTACH;FMTTYPE=image/jpeg:https://valid.org.au/wp-content/uploads/2020/12/Families-photo-scaled-e1607562445611.jpg
END:VEVENT
BEGIN:VEVENT
DTSTART;TZID=Australia/Melbourne:20210623T190000
DTEND;TZID=Australia/Melbourne:20210623T210000
DTSTAMP:20260426T031354
CREATED:20210607T053621Z
LAST-MODIFIED:20210607T061123Z
UID:6002-1624474800-1624482000@valid.org.au
SUMMARY:Online Workshops for Families
DESCRIPTION:These workshops are 􀍚stand-alone􀍛 sessions. People are welcome to do one or more. more. They are presented in a user-friendly format ONLINE by parents with life experience of using the NDIS.\nFor more information or assistance to register contact: Donna Shaw Mob: 0402 757 987 Email: donna@valid.org.\nTo Register: Complete the form. \n \n \n								Share on facebook\n										Facebook\n								Share on twitter\n										Twitter\n								Share on linkedin\n										LinkedIn
URL:https://valid.org.au/event/member-online-workshops-for-families-to-2021-06-23/
CATEGORIES:Training
ATTACH;FMTTYPE=image/jpeg:https://valid.org.au/wp-content/uploads/2020/12/Families-photo-scaled-e1607562445611.jpg
END:VEVENT
BEGIN:VEVENT
DTSTART;TZID=Australia/Melbourne:20210624T100000
DTEND;TZID=Australia/Melbourne:20210624T120000
DTSTAMP:20260426T031354
CREATED:20210607T053621Z
LAST-MODIFIED:20210607T060929Z
UID:6003-1624528800-1624536000@valid.org.au
SUMMARY:Online Workshops for Families
DESCRIPTION:These workshops are 􀍚stand-alone􀍛 sessions. People are welcome to do one or more. more. They are presented in a user-friendly format ONLINE by parents with life experience of using the NDIS. \nFor more information or assistance to register contact: Donna Shaw Mob: 0402 757 987 Email: donna@valid.org.\nTo Register: Complete the form.  \n  \n 
URL:https://valid.org.au/event/member-online-workshops-for-families-to-2021-06-23-2021-06-24/2021-06-24/
CATEGORIES:Training
ATTACH;FMTTYPE=image/jpeg:https://valid.org.au/wp-content/uploads/2020/12/Families-photo-scaled-e1607562445611.jpg
END:VEVENT
END:VCALENDAR