BEGIN:VCALENDAR
VERSION:2.0
PRODID:-//VALID - ECPv6.5.1.4//NONSGML v1.0//EN
CALSCALE:GREGORIAN
METHOD:PUBLISH
X-WR-CALNAME:VALID
X-ORIGINAL-URL:https://valid.org.au
X-WR-CALDESC:Events for VALID
REFRESH-INTERVAL;VALUE=DURATION:PT1H
X-Robots-Tag:noindex
X-PUBLISHED-TTL:PT1H
BEGIN:VTIMEZONE
TZID:Australia/Melbourne
BEGIN:STANDARD
TZOFFSETFROM:+1100
TZOFFSETTO:+1000
TZNAME:AEST
DTSTART:20210403T160000
END:STANDARD
BEGIN:DAYLIGHT
TZOFFSETFROM:+1000
TZOFFSETTO:+1100
TZNAME:AEDT
DTSTART:20211002T160000
END:DAYLIGHT
END:VTIMEZONE
BEGIN:VEVENT
DTSTART;TZID=Australia/Melbourne:20210802T174500
DTEND;TZID=Australia/Melbourne:20210802T210000
DTSTAMP:20260425T201652
CREATED:20210722T045012Z
LAST-MODIFIED:20210722T051947Z
UID:6294-1627926300-1627938000@valid.org.au
SUMMARY:The Succession Planning Puzzle
DESCRIPTION:It is the question all parents have – who is going to care for my family member when I’m not around? \nVALID’s Succession Planning course is free for Victorian family members of people with disability. It includes four core sessions and three optional sessions: \n• To assist you to ‘map’ out what things you need to put in place for the future\n• Information on options for financial\, accommodation and legal issues\n• Setting up your family member to receive ‘quality of care’\, e.g. Circle of Support\n• Optional sessions will have guest speakers on Wills\, trusts\, Supportive Attorneys\, Guardianship & Admin and what accommodation support is funded by the NDIS \nIf you are interested in doing this course please fill this form in and take a photo or scan of it and return to Maree E: maree@valid.org.au M: 0409 965 264 \nDownload flyer
URL:https://valid.org.au/event/the-succession-planning-puzzle/2021-08-02/
CATEGORIES:Training
END:VEVENT
END:VCALENDAR