BEGIN:VCALENDAR
VERSION:2.0
PRODID:-//VALID - ECPv6.5.1.4//NONSGML v1.0//EN
CALSCALE:GREGORIAN
METHOD:PUBLISH
X-ORIGINAL-URL:https://valid.org.au
X-WR-CALDESC:Events for VALID
REFRESH-INTERVAL;VALUE=DURATION:PT1H
X-Robots-Tag:noindex
X-PUBLISHED-TTL:PT1H
BEGIN:VTIMEZONE
TZID:Australia/Melbourne
BEGIN:STANDARD
TZOFFSETFROM:+1100
TZOFFSETTO:+1000
TZNAME:AEST
DTSTART:20220402T160000
END:STANDARD
BEGIN:DAYLIGHT
TZOFFSETFROM:+1000
TZOFFSETTO:+1100
TZNAME:AEDT
DTSTART:20221001T160000
END:DAYLIGHT
BEGIN:STANDARD
TZOFFSETFROM:+1100
TZOFFSETTO:+1000
TZNAME:AEST
DTSTART:20230401T160000
END:STANDARD
BEGIN:DAYLIGHT
TZOFFSETFROM:+1000
TZOFFSETTO:+1100
TZNAME:AEDT
DTSTART:20230930T160000
END:DAYLIGHT
BEGIN:STANDARD
TZOFFSETFROM:+1100
TZOFFSETTO:+1000
TZNAME:AEST
DTSTART:20240406T160000
END:STANDARD
BEGIN:DAYLIGHT
TZOFFSETFROM:+1000
TZOFFSETTO:+1100
TZNAME:AEDT
DTSTART:20241005T160000
END:DAYLIGHT
END:VTIMEZONE
BEGIN:VEVENT
DTSTART;TZID=Australia/Melbourne:20220406T094500
DTEND;TZID=Australia/Melbourne:20220406T130000
DTSTAMP:20260426T095516
CREATED:20220208T235544Z
LAST-MODIFIED:20220208T235544Z
UID:7188-1649238300-1649250000@valid.org.au
SUMMARY:The Succession Planning Puzzle
DESCRIPTION:These workshops are 􀍚stand-alone􀍛 sessions. People are welcome to do one or more. more. They are presented in a user-friendly format ONLINE by parents with life experience of using the NDIS.\n\nFor more information or assistance to register contact: Donna Shaw Mob: 0402 757 987 Email: donna@valid.org.\nTo Register: Complete the form. \n\n \n\n 						\n				\n					\n		\n					\n		\n				\n						\n					\n			\n							\n		\n				\n			\n							\n		\n				\n			\n						\n				\n					\n								\n						\n															\n															\n																						\n																			\n										Facebook									\n																	\n													\n					\n									\n						\n															\n															\n																						\n																			\n										Twitter									\n																	\n													\n					\n									\n						\n															\n															\n																						\n																			\n										LinkedIn
URL:https://valid.org.au/event/the-succession-planning-puzzle-7/
LOCATION:Online
CATEGORIES:Training
END:VEVENT
BEGIN:VEVENT
DTSTART;TZID=Australia/Melbourne:20220502T174500
DTEND;TZID=Australia/Melbourne:20220502T210000
DTSTAMP:20260426T095516
CREATED:20220209T000626Z
LAST-MODIFIED:20220209T000626Z
UID:7190-1651513500-1651525200@valid.org.au
SUMMARY:The Succession Planning Puzzle
DESCRIPTION:These workshops are 􀍚stand-alone􀍛 sessions. People are welcome to do one or more. more. They are presented in a user-friendly format ONLINE by parents with life experience of using the NDIS.\n\nFor more information or assistance to register contact: Donna Shaw Mob: 0402 757 987 Email: donna@valid.org.\nTo Register: Complete the form. \n\n \n\n 						\n				\n					\n		\n					\n		\n				\n						\n					\n			\n							\n		\n				\n			\n							\n		\n				\n			\n						\n				\n					\n								\n						\n															\n															\n																						\n																			\n										Facebook									\n																	\n													\n					\n									\n						\n															\n															\n																						\n																			\n										Twitter									\n																	\n													\n					\n									\n						\n															\n															\n																						\n																			\n										LinkedIn
URL:https://valid.org.au/event/the-succession-planning-puzzle-8/
LOCATION:Online
CATEGORIES:Training
END:VEVENT
BEGIN:VEVENT
DTSTART;TZID=Australia/Melbourne:20240516T100000
DTEND;TZID=Australia/Melbourne:20240516T141500
DTSTAMP:20260426T095516
CREATED:20240508T011036Z
LAST-MODIFIED:20240508T013429Z
UID:14185-1715853600-1715868900@valid.org.au
SUMMARY:The Succession Planning Puzzle
DESCRIPTION:These workshops are 􀍚stand-alone􀍛 sessions. People are welcome to do one or more. more. They are presented in a user-friendly format ONLINE by parents with life experience of using the NDIS.\n\nFor more information or assistance to register contact: Donna Shaw Mob: 0402 757 987 Email: donna@valid.org.\nTo Register: Complete the form. \n\n \n\n 						\n				\n					\n		\n					\n		\n				\n						\n					\n			\n							\n		\n				\n			\n							\n		\n				\n			\n						\n				\n					\n								\n						\n															\n															\n																						\n																			\n										Facebook									\n																	\n													\n					\n									\n						\n															\n															\n																						\n																			\n										Twitter									\n																	\n													\n					\n									\n						\n															\n															\n																						\n																			\n										LinkedIn
URL:https://valid.org.au/event/the-succession-planning-puzzle-9/
LOCATION:Online
CATEGORIES:Training
ATTACH;FMTTYPE=image/jpeg:https://valid.org.au/wp-content/uploads/2021/02/dreamstime_xxl_200472721-scaled-e1715131765313.jpg
END:VEVENT
END:VCALENDAR