BEGIN:VCALENDAR
VERSION:2.0
PRODID:-//VALID - ECPv6.5.1.4//NONSGML v1.0//EN
CALSCALE:GREGORIAN
METHOD:PUBLISH
X-WR-CALNAME:VALID
X-ORIGINAL-URL:https://valid.org.au
X-WR-CALDESC:Events for VALID
REFRESH-INTERVAL;VALUE=DURATION:PT1H
X-Robots-Tag:noindex
X-PUBLISHED-TTL:PT1H
BEGIN:VTIMEZONE
TZID:Australia/Melbourne
BEGIN:STANDARD
TZOFFSETFROM:+1100
TZOFFSETTO:+1000
TZNAME:AEST
DTSTART:20200404T160000
END:STANDARD
BEGIN:DAYLIGHT
TZOFFSETFROM:+1000
TZOFFSETTO:+1100
TZNAME:AEDT
DTSTART:20201003T160000
END:DAYLIGHT
END:VTIMEZONE
BEGIN:VEVENT
DTSTART;TZID=Australia/Melbourne:20200331T174500
DTEND;TZID=Australia/Melbourne:20200331T210000
DTSTAMP:20260420T211151
CREATED:20200302T001940Z
LAST-MODIFIED:20200309T231910Z
UID:1909-1585676700-1585688400@valid.org.au
SUMMARY:Families as Planning Partners Course - Tecoma - Evening Session
DESCRIPTION:A course conducted by parents with personal experience of the NDIS\, for families who want to understand and use the NDIS as an opportunity to build a ‘Good Life’ for their family member. This four-week course is FREE. This is essential learning for all families whether they have an NDIS Plan yet or not. Please scroll down to find current training in your area. \nSession 1. Understanding your NDIS Plan \n\nStart preparing for your NDIS Plan Review\nWhat is and is not funded. What you can and cannot do.\nWhat is your role and responsibilities?\n\nSession 2. Getting Effective Support! \n\nLearn the NDIS Language\nWhat you need to have and do for the Plan Review\nCommunicate effectively with NDIS\, services and workers\n\nSession 3. NDIS Planning & Whole of Life Planning \n\nPrepare for Review – develop your ideal NDIS plan.\nPlanning – Person Centred\, NDIS and Whole of Life Plans\nLearn how to write Goals.\n\nSession 4. How to Manage the Plan supports and funding \n\nHow to manage the plan – the funds and the supports\nUnderstand the NDIS Price Guide and how to use funds flexibly\nGetting the Best out of your NDIS Plan\nImplementing the Plan – How to get the services and supports you need.\n\nPlease note: You must commit to attend all four sessions\, places are limited. \nTo register\, download and complete the following forms. Email or SMS a photo of the form to maree@valid.org.au or Ph. 0409 965 264 \nTecoma – Evening course
URL:https://valid.org.au/event/families-as-planning-partners-course-tecoma-evening-session-31-march-2020/
LOCATION:CoAbility\, 5/1563-65 Burwood Highway\, Tecoma\, Victoria\, 3160\, Australia
CATEGORIES:Training
ORGANIZER;CN="Christine Scott":MAILTO:christine@valid.org.au
END:VEVENT
BEGIN:VEVENT
DTSTART;TZID=Australia/Melbourne:20200331T094500
DTEND;TZID=Australia/Melbourne:20200331T140000
DTSTAMP:20260420T211151
CREATED:20200302T001505Z
LAST-MODIFIED:20200309T231918Z
UID:1899-1585647900-1585663200@valid.org.au
SUMMARY:Families as Planning Partners Course - Tecoma - Day Session
DESCRIPTION:A course conducted by parents with personal experience of the NDIS\, for families who want to understand and use the NDIS as an opportunity to build a ‘Good Life’ for their family member. This four-week course is FREE. This is essential learning for all families whether they have an NDIS Plan yet or not. Please scroll down to find current training in your area. \nSession 1. Understanding your NDIS Plan \n\nStart preparing for your NDIS Plan Review\nWhat is and is not funded. What you can and cannot do.\nWhat is your role and responsibilities?\n\nSession 2. Getting Effective Support! \n\nLearn the NDIS Language\nWhat you need to have and do for the Plan Review\nCommunicate effectively with NDIS\, services and workers\n\nSession 3. NDIS Planning & Whole of Life Planning \n\nPrepare for Review – develop your ideal NDIS plan.\nPlanning – Person Centred\, NDIS and Whole of Life Plans\nLearn how to write Goals.\n\nSession 4. How to Manage the Plan supports and funding \n\nHow to manage the plan – the funds and the supports\nUnderstand the NDIS Price Guide and how to use funds flexibly\nGetting the Best out of your NDIS Plan\nImplementing the Plan – How to get the services and supports you need.\n\nPlease note: You must commit to attend all four sessions\, places are limited. \nTo register\, download and complete the following forms. Email or SMS a photo of the form to maree@valid.org.au or Ph. 0409 965 264 \nTecoma – Day course
URL:https://valid.org.au/event/families-as-planning-partners-course-tecoma-day-session-31-march-2020/
LOCATION:CoAbility\, 5/1563-65 Burwood Highway\, Tecoma\, Victoria\, 3160\, Australia
CATEGORIES:Training
ORGANIZER;CN="Christine Scott":MAILTO:christine@valid.org.au
END:VEVENT
BEGIN:VEVENT
DTSTART;TZID=Australia/Melbourne:20200324T174500
DTEND;TZID=Australia/Melbourne:20200324T210000
DTSTAMP:20260420T211151
CREATED:20200302T001852Z
LAST-MODIFIED:20200309T231940Z
UID:1907-1585071900-1585083600@valid.org.au
SUMMARY:Families as Planning Partners Course - Tecoma - Evening Session
DESCRIPTION:A course conducted by parents with personal experience of the NDIS\, for families who want to understand and use the NDIS as an opportunity to build a ‘Good Life’ for their family member. This four-week course is FREE. This is essential learning for all families whether they have an NDIS Plan yet or not. Please scroll down to find current training in your area. \nSession 1. Understanding your NDIS Plan \n\nStart preparing for your NDIS Plan Review\nWhat is and is not funded. What you can and cannot do.\nWhat is your role and responsibilities?\n\nSession 2. Getting Effective Support! \n\nLearn the NDIS Language\nWhat you need to have and do for the Plan Review\nCommunicate effectively with NDIS\, services and workers\n\nSession 3. NDIS Planning & Whole of Life Planning \n\nPrepare for Review – develop your ideal NDIS plan.\nPlanning – Person Centred\, NDIS and Whole of Life Plans\nLearn how to write Goals.\n\nSession 4. How to Manage the Plan supports and funding \n\nHow to manage the plan – the funds and the supports\nUnderstand the NDIS Price Guide and how to use funds flexibly\nGetting the Best out of your NDIS Plan\nImplementing the Plan – How to get the services and supports you need.\n\nPlease note: You must commit to attend all four sessions\, places are limited. \nTo register\, download and complete the following forms. Email or SMS a photo of the form to maree@valid.org.au or Ph. 0409 965 264 \nTecoma – Evening course
URL:https://valid.org.au/event/families-as-planning-partners-course-tecoma-evening-session-24-march-2020/
LOCATION:CoAbility\, 5/1563-65 Burwood Highway\, Tecoma\, Victoria\, 3160\, Australia
CATEGORIES:Training
ORGANIZER;CN="Christine Scott":MAILTO:christine@valid.org.au
END:VEVENT
BEGIN:VEVENT
DTSTART;TZID=Australia/Melbourne:20200324T094500
DTEND;TZID=Australia/Melbourne:20200324T140000
DTSTAMP:20260420T211151
CREATED:20200302T001412Z
LAST-MODIFIED:20200309T231946Z
UID:1897-1585043100-1585058400@valid.org.au
SUMMARY:Families as Planning Partners Course - Tecoma - Day Session
DESCRIPTION:A course conducted by parents with personal experience of the NDIS\, for families who want to understand and use the NDIS as an opportunity to build a ‘Good Life’ for their family member. This four-week course is FREE. This is essential learning for all families whether they have an NDIS Plan yet or not. Please scroll down to find current training in your area. \nSession 1. Understanding your NDIS Plan \n\nStart preparing for your NDIS Plan Review\nWhat is and is not funded. What you can and cannot do.\nWhat is your role and responsibilities?\n\nSession 2. Getting Effective Support! \n\nLearn the NDIS Language\nWhat you need to have and do for the Plan Review\nCommunicate effectively with NDIS\, services and workers\n\nSession 3. NDIS Planning & Whole of Life Planning \n\nPrepare for Review – develop your ideal NDIS plan.\nPlanning – Person Centred\, NDIS and Whole of Life Plans\nLearn how to write Goals.\n\nSession 4. How to Manage the Plan supports and funding \n\nHow to manage the plan – the funds and the supports\nUnderstand the NDIS Price Guide and how to use funds flexibly\nGetting the Best out of your NDIS Plan\nImplementing the Plan – How to get the services and supports you need.\n\nPlease note: You must commit to attend all four sessions\, places are limited. \nTo register\, download and complete the following forms. Email or SMS a photo of the form to maree@valid.org.au or Ph. 0409 965 264 \nTecoma – Day course
URL:https://valid.org.au/event/families-as-planning-partners-course-tecoma-day-session-14-march-2020/
LOCATION:CoAbility\, 5/1563-65 Burwood Highway\, Tecoma\, Victoria\, 3160\, Australia
CATEGORIES:Training
ORGANIZER;CN="Christine Scott":MAILTO:christine@valid.org.au
END:VEVENT
BEGIN:VEVENT
DTSTART;TZID=Australia/Melbourne:20200317T174500
DTEND;TZID=Australia/Melbourne:20200317T210000
DTSTAMP:20260420T211151
CREATED:20200302T001810Z
LAST-MODIFIED:20200309T232008Z
UID:1905-1584467100-1584478800@valid.org.au
SUMMARY:Families as Planning Partners Course - Tecoma - Evening Session
DESCRIPTION:A course conducted by parents with personal experience of the NDIS\, for families who want to understand and use the NDIS as an opportunity to build a ‘Good Life’ for their family member. This four-week course is FREE. This is essential learning for all families whether they have an NDIS Plan yet or not. Please scroll down to find current training in your area. \nSession 1. Understanding your NDIS Plan \n\nStart preparing for your NDIS Plan Review\nWhat is and is not funded. What you can and cannot do.\nWhat is your role and responsibilities?\n\nSession 2. Getting Effective Support! \n\nLearn the NDIS Language\nWhat you need to have and do for the Plan Review\nCommunicate effectively with NDIS\, services and workers\n\nSession 3. NDIS Planning & Whole of Life Planning \n\nPrepare for Review – develop your ideal NDIS plan.\nPlanning – Person Centred\, NDIS and Whole of Life Plans\nLearn how to write Goals.\n\nSession 4. How to Manage the Plan supports and funding \n\nHow to manage the plan – the funds and the supports\nUnderstand the NDIS Price Guide and how to use funds flexibly\nGetting the Best out of your NDIS Plan\nImplementing the Plan – How to get the services and supports you need.\n\nPlease note: You must commit to attend all four sessions\, places are limited. \nTo register\, download and complete the following forms. Email or SMS a photo of the form to maree@valid.org.au or Ph. 0409 965 264 \nTecoma – Evening course
URL:https://valid.org.au/event/families-as-planning-partners-course-tecoma-evening-session-17-march-2020/
LOCATION:CoAbility\, 5/1563-65 Burwood Highway\, Tecoma\, Victoria\, 3160\, Australia
CATEGORIES:Training
ORGANIZER;CN="Christine Scott":MAILTO:christine@valid.org.au
END:VEVENT
BEGIN:VEVENT
DTSTART;TZID=Australia/Melbourne:20200317T094500
DTEND;TZID=Australia/Melbourne:20200317T140000
DTSTAMP:20260420T211151
CREATED:20200302T001240Z
LAST-MODIFIED:20200309T232017Z
UID:1894-1584438300-1584453600@valid.org.au
SUMMARY:Families as Planning Partners Course - Tecoma - Day Session
DESCRIPTION:A course conducted by parents with personal experience of the NDIS\, for families who want to understand and use the NDIS as an opportunity to build a ‘Good Life’ for their family member. This four-week course is FREE. This is essential learning for all families whether they have an NDIS Plan yet or not. Please scroll down to find current training in your area. \nSession 1. Understanding your NDIS Plan \n\nStart preparing for your NDIS Plan Review\nWhat is and is not funded. What you can and cannot do.\nWhat is your role and responsibilities?\n\nSession 2. Getting Effective Support! \n\nLearn the NDIS Language\nWhat you need to have and do for the Plan Review\nCommunicate effectively with NDIS\, services and workers\n\nSession 3. NDIS Planning & Whole of Life Planning \n\nPrepare for Review – develop your ideal NDIS plan.\nPlanning – Person Centred\, NDIS and Whole of Life Plans\nLearn how to write Goals.\n\nSession 4. How to Manage the Plan supports and funding \n\nHow to manage the plan – the funds and the supports\nUnderstand the NDIS Price Guide and how to use funds flexibly\nGetting the Best out of your NDIS Plan\nImplementing the Plan – How to get the services and supports you need.\n\nPlease note: You must commit to attend all four sessions\, places are limited. \nTo register\, download and complete the following forms. Email or SMS a photo of the form to maree@valid.org.au or Ph. 0409 965 264 \nTecoma – Day course
URL:https://valid.org.au/event/families-as-planning-partners-course-tecoma-day-session-17-march-2020/
LOCATION:CoAbility\, 5/1563-65 Burwood Highway\, Tecoma\, Victoria\, 3160\, Australia
CATEGORIES:Training
ORGANIZER;CN="Christine Scott":MAILTO:christine@valid.org.au
END:VEVENT
BEGIN:VEVENT
DTSTART;TZID=Australia/Melbourne:20200310T174500
DTEND;TZID=Australia/Melbourne:20200310T210000
DTSTAMP:20260420T211151
CREATED:20200302T001728Z
LAST-MODIFIED:20200309T232137Z
UID:1901-1583862300-1583874000@valid.org.au
SUMMARY:Families as Planning Partners Course - Tecoma - Evening Session
DESCRIPTION:A course conducted by parents with personal experience of the NDIS\, for families who want to understand and use the NDIS as an opportunity to build a ‘Good Life’ for their family member. This four-week course is FREE. This is essential learning for all families whether they have an NDIS Plan yet or not. Please scroll down to find current training in your area. \nSession 1. Understanding your NDIS Plan \n\nStart preparing for your NDIS Plan Review\nWhat is and is not funded. What you can and cannot do.\nWhat is your role and responsibilities?\n\nSession 2. Getting Effective Support! \n\nLearn the NDIS Language\nWhat you need to have and do for the Plan Review\nCommunicate effectively with NDIS\, services and workers\n\nSession 3. NDIS Planning & Whole of Life Planning \n\nPrepare for Review – develop your ideal NDIS plan.\nPlanning – Person Centred\, NDIS and Whole of Life Plans\nLearn how to write Goals.\n\nSession 4. How to Manage the Plan supports and funding \n\nHow to manage the plan – the funds and the supports\nUnderstand the NDIS Price Guide and how to use funds flexibly\nGetting the Best out of your NDIS Plan\nImplementing the Plan – How to get the services and supports you need.\n\nPlease note: You must commit to attend all four sessions\, places are limited. \nTo register\, download and complete the following forms. Email or SMS a photo of the form to maree@valid.org.au or Ph. 0409 965 264 \nTecoma – Evening course
URL:https://valid.org.au/event/families-as-planning-partners-course-tecoma-evening-session-10-march-2020/
LOCATION:CoAbility\, 5/1563-65 Burwood Highway\, Tecoma\, Victoria\, 3160\, Australia
CATEGORIES:Training
ORGANIZER;CN="Christine Scott":MAILTO:christine@valid.org.au
END:VEVENT
BEGIN:VEVENT
DTSTART;TZID=Australia/Melbourne:20200310T094500
DTEND;TZID=Australia/Melbourne:20200310T140000
DTSTAMP:20260420T211151
CREATED:20200302T000813Z
LAST-MODIFIED:20200309T232144Z
UID:1888-1583833500-1583848800@valid.org.au
SUMMARY:Families as Planning Partners Course - Tecoma - Day Session
DESCRIPTION:A course conducted by parents with personal experience of the NDIS\, for families who want to understand and use the NDIS as an opportunity to build a ‘Good Life’ for their family member. This four-week course is FREE. This is essential learning for all families whether they have an NDIS Plan yet or not. Please scroll down to find current training in your area. \nSession 1. Understanding your NDIS Plan \n\nStart preparing for your NDIS Plan Review\nWhat is and is not funded. What you can and cannot do.\nWhat is your role and responsibilities?\n\nSession 2. Getting Effective Support! \n\nLearn the NDIS Language\nWhat you need to have and do for the Plan Review\nCommunicate effectively with NDIS\, services and workers\n\nSession 3. NDIS Planning & Whole of Life Planning \n\nPrepare for Review – develop your ideal NDIS plan.\nPlanning – Person Centred\, NDIS and Whole of Life Plans\nLearn how to write Goals.\n\nSession 4. How to Manage the Plan supports and funding \n\nHow to manage the plan – the funds and the supports\nUnderstand the NDIS Price Guide and how to use funds flexibly\nGetting the Best out of your NDIS Plan\nImplementing the Plan – How to get the services and supports you need.\n\nPlease note: You must commit to attend all four sessions\, places are limited. \nTo register\, download and complete the following forms. Email or SMS a photo of the form to maree@valid.org.au or Ph. 0409 965 264 \nTecoma – Day course
URL:https://valid.org.au/event/families-as-planning-partners-course-tecoma-day-session-10-march-2020/
LOCATION:CoAbility\, 5/1563-65 Burwood Highway\, Tecoma\, Victoria\, 3160\, Australia
CATEGORIES:Training
ORGANIZER;CN="Christine Scott":MAILTO:christine@valid.org.au
END:VEVENT
END:VCALENDAR