BEGIN:VCALENDAR
VERSION:2.0
PRODID:-//VALID - ECPv6.5.1.4//NONSGML v1.0//EN
CALSCALE:GREGORIAN
METHOD:PUBLISH
X-ORIGINAL-URL:https://valid.org.au
X-WR-CALDESC:Events for VALID
REFRESH-INTERVAL;VALUE=DURATION:PT1H
X-Robots-Tag:noindex
X-PUBLISHED-TTL:PT1H
BEGIN:VTIMEZONE
TZID:Australia/Melbourne
BEGIN:STANDARD
TZOFFSETFROM:+1100
TZOFFSETTO:+1000
TZNAME:AEST
DTSTART:20200404T160000
END:STANDARD
BEGIN:DAYLIGHT
TZOFFSETFROM:+1000
TZOFFSETTO:+1100
TZNAME:AEDT
DTSTART:20201003T160000
END:DAYLIGHT
END:VTIMEZONE
BEGIN:VEVENT
DTSTART;TZID=Australia/Melbourne:20200305T100000
DTEND;TZID=Australia/Melbourne:20200305T150000
DTSTAMP:20260421T135902
CREATED:20200111T062025Z
LAST-MODIFIED:20200306T025328Z
UID:140-1583402400-1583420400@valid.org.au
SUMMARY:Our Choice NDIS Expo - Sale
DESCRIPTION:VALID invites you to visit the Our Choice NDIS Expo. It will feature a range of local\, regional and statewide services available for participants of the NDIS. \nInformation and exhibits about the range of services and supports available through the National Disability Insurance Scheme (NDIS) for people living with a disability and their families and supporters. \nFree entry (no RSVP required). \nOur Choice Expo – Exhibitors Registration \nOur Choice Expo – Flyer \nFor more info on becoming an exhibitor at the Expo contact Christine: \nPh: 03 9416 4003 \nEmail: christine@valid.org.au \nDOWNLOAD THE FORM
URL:https://valid.org.au/event/our-choice-ndis-expo-sale/
LOCATION:Sale Baptist Church\, Princess Highway\, Save\, Victoria\, 3850\, Australia
CATEGORIES:Expos
END:VEVENT
END:VCALENDAR